0.3000000
0.0000000
0.0000000
-0.3000000
595500.1500000
5383499.8500000
