0.3000000
0.0000000
0.0000000
-0.3000000
580500.1500000
5392499.8500000
