0.3000000
0.0000000
0.0000000
-0.3000000
561000.1500000
5390999.8500000
