0.3000000
0.0000000
0.0000000
-0.3000000
558000.1500000
5392499.8500000
