0.3000000
0.0000000
0.0000000
-0.3000000
642000.1500000
5422499.8500000
