0.3000000
0.0000000
0.0000000
-0.3000000
637500.1500000
5437499.8500000
