0.3000000
0.0000000
0.0000000
-0.3000000
636000.1500000
5446499.8500000
