0.3000000
0.0000000
0.0000000
-0.3000000
631500.1500000
5414999.8500000
