0.3000000
0.0000000
0.0000000
-0.3000000
630000.1500000
5417999.8500000
