0.3000000
0.0000000
0.0000000
-0.3000000
622500.1500000
5441999.8500000
