0.3000000
0.0000000
0.0000000
-0.3000000
615000.1500000
5444999.8500000
