0.3000000
0.0000000
0.0000000
-0.3000000
613500.1500000
5404499.8500000
