0.3000000
0.0000000
0.0000000
-0.3000000
610500.1500000
5407499.8500000
