0.3000000
0.0000000
0.0000000
-0.3000000
606000.1500000
5410499.8500000
