0.3000000
0.0000000
0.0000000
-0.3000000
601500.1500000
5423999.8500000
