0.3000000
0.0000000
0.0000000
-0.3000000
649500.1500000
5399999.8500000
