0.3000000
0.0000000
0.0000000
-0.3000000
640500.1500000
5393999.8500000
