0.3000000
0.0000000
0.0000000
-0.3000000
634500.1500000
5395499.8500000
