0.3000000
0.0000000
0.0000000
-0.3000000
627000.1500000
5389499.8500000
