0.3000000
0.0000000
0.0000000
-0.3000000
625500.1500000
5398499.8500000
