0.3000000
0.0000000
0.0000000
-0.3000000
526500.1500000
5384999.8500000
