0.3000000
0.0000000
0.0000000
-0.3000000
619500.1500000
5386499.8500000
