0.3000000
0.0000000
0.0000000
-0.3000000
618000.1500000
5396999.8500000
