0.3000000
0.0000000
0.0000000
-0.3000000
597000.1500000
5431499.8500000
