0.3000000
0.0000000
0.0000000
-0.3000000
594000.1500000
5411999.8500000
