0.3000000
0.0000000
0.0000000
-0.3000000
591000.1500000
5443499.8500000
