0.3000000
0.0000000
0.0000000
-0.3000000
588000.1500000
5408999.8500000
