0.3000000
0.0000000
0.0000000
-0.3000000
586500.1500000
5417999.8500000
