0.3000000
0.0000000
0.0000000
-0.3000000
568500.1500000
5405999.8500000
