0.3000000
0.0000000
0.0000000
-0.3000000
565500.1500000
5419499.8500000
