0.3000000
0.0000000
0.0000000
-0.3000000
564000.1500000
5419499.8500000
