0.3000000
0.0000000
0.0000000
-0.3000000
555000.1500000
5416499.8500000
