0.3000000
0.0000000
0.0000000
-0.3000000
550500.1500000
5411999.8500000
