0.3000000
0.0000000
0.0000000
-0.3000000
541500.1500000
5428499.8500000
