0.3000000
0.0000000
0.0000000
-0.3000000
535500.1500000
5438999.8500000
