0.3000000
0.0000000
0.0000000
-0.3000000
529500.1500000
5434499.8500000
