30.0000000000
0.0000000000
0.0000000000
-30.0000000000
-630895.1286826450
2929995.1086325599
