30.0000000000
0.0000000000
0.0000000000
-30.0000000000
102534.2214321270
5456565.6468586205
