25.40000078
0.00000000
0.00000000
-25.40000078
566863.91575534
5436897.15512502
