25.40000078
0.00000000
0.00000000
-25.40000078
269086.43755495
5438170.86080851
