25.40000078
0.00000000
0.00000000
-25.40000078
418799.43355562
5434138.76694302
