25.40000078
0.00000000
0.00000000
-25.40000078
569716.59464918
5215884.78243617
