25.40000078
0.00000000
0.00000000
-25.40000078
571124.96917139
5104779.49160440
