25.40000078
0.00000000
0.00000000
-25.40000078
414596.83927480
5100728.55198261
