2.43840000
0.00000000
0.00000000
-2.43840000
517568.12459310
5414177.55748860
