2.43840000
0.00000000
0.00000000
-2.43840000
535897.50324259
5414298.34595522
