2.43840000
0.00000000
0.00000000
-2.43840000
508431.69376643
5400241.20569870
