2.43840000
0.00000000
0.00000000
-2.43840000
508452.58755603
5386347.43012418
