2.43840000
0.00000000
0.00000000
-2.43840000
554496.50774732
5386694.15085621
