2.43840000
0.00000000
0.00000000
-2.43840000
554638.37507642
5372799.67048014
